BEGIN:VCALENDAR
VERSION:2.0
PRODID:< http://www.open2c.de/ >
METHOD:PUBLISH
X-PUBLISHED-TTL:PT12H
BEGIN:VEVENT
CREATED:20160128T125810Z
LAST-MODIFIED:20260409T100836Z
ORGANIZER;CN="Pfarrei Mariä Heimsuchung Bühl"
DTSTAMP:20260419T114009Z
DTSTART;VALUE=DATE:20260530
CATEGORIES:Kirchweih
SUMMARY:Kirchweihbaum aufstellen
DESCRIPTION:Organisator Pfarrei Mariä Heimsuchung Bühl
LOCATION:Pfarrheim Bühl
UID:24ddfd9edf8c3b8fdc9c776b59c9b49b@776c502ae731f40dcd4244d65fd109cf
END:VEVENT
END:VCALENDAR